BEGIN:VCALENDAR
VERSION:2.0
PRODID:-//AFLA - ECPv4.9.9//NONSGML v1.0//EN
CALSCALE:GREGORIAN
METHOD:PUBLISH
X-WR-CALNAME:AFLA
X-ORIGINAL-URL:https://afla-law.org
X-WR-CALDESC:Events for AFLA
BEGIN:VTIMEZONE
TZID:America/New_York
BEGIN:DAYLIGHT
TZOFFSETFROM:-0500
TZOFFSETTO:-0400
TZNAME:EDT
DTSTART:20240310T070000
END:DAYLIGHT
BEGIN:STANDARD
TZOFFSETFROM:-0400
TZOFFSETTO:-0500
TZNAME:EST
DTSTART:20241103T060000
END:STANDARD
END:VTIMEZONE
BEGIN:VEVENT
DTSTART;TZID=America/New_York:20240320T120000
DTEND;TZID=America/New_York:20240320T133000
DTSTAMP:20260422T095704
CREATED:20240116T171005Z
LAST-MODIFIED:20240305T173924Z
UID:4508-1710936000-1710941400@afla-law.org
SUMMARY:Current Issues in the U.S. Income Tax Treaty Network
DESCRIPTION:Join Martin T. Hamilton for a discussion on the current U.S. income tax treaty landscape. Topics will include a review of changes to the income tax treaties in force\, the potential for expansion (and perhaps contraction) of that treaty network\, and an overview of certain significant U.S. tax questions arising under those tax treaties that cross-border tax practitioners and their clients should be aware of. \n
URL:https://afla-law.org/events/current-issues-in-the-u-s-income-tax-treaty-network/
LOCATION:Proskauer Rose LLP\, Eleven Times Square (Eighth Avenue & 41st Street)\, New York\, NY\, 10036\, United States
END:VEVENT
END:VCALENDAR